BEGIN:VCALENDAR
VERSION:2.0
PRODID:-//SoCal ASL - ECPv6.15.20//NONSGML v1.0//EN
CALSCALE:GREGORIAN
METHOD:PUBLISH
X-WR-CALNAME:SoCal ASL
X-ORIGINAL-URL:https://socalasl.com
X-WR-CALDESC:Events for SoCal ASL
REFRESH-INTERVAL;VALUE=DURATION:PT1H
X-Robots-Tag:noindex
X-PUBLISHED-TTL:PT1H
BEGIN:VTIMEZONE
TZID:America/Los_Angeles
BEGIN:DAYLIGHT
TZOFFSETFROM:-0800
TZOFFSETTO:-0700
TZNAME:PDT
DTSTART:20240310T100000
END:DAYLIGHT
BEGIN:STANDARD
TZOFFSETFROM:-0700
TZOFFSETTO:-0800
TZNAME:PST
DTSTART:20241103T090000
END:STANDARD
BEGIN:DAYLIGHT
TZOFFSETFROM:-0800
TZOFFSETTO:-0700
TZNAME:PDT
DTSTART:20250309T100000
END:DAYLIGHT
BEGIN:STANDARD
TZOFFSETFROM:-0700
TZOFFSETTO:-0800
TZNAME:PST
DTSTART:20251102T090000
END:STANDARD
BEGIN:DAYLIGHT
TZOFFSETFROM:-0800
TZOFFSETTO:-0700
TZNAME:PDT
DTSTART:20260308T100000
END:DAYLIGHT
BEGIN:STANDARD
TZOFFSETFROM:-0700
TZOFFSETTO:-0800
TZNAME:PST
DTSTART:20261101T090000
END:STANDARD
END:VTIMEZONE
BEGIN:VEVENT
DTSTART;TZID=America/Los_Angeles:20250220T100000
DTEND;TZID=America/Los_Angeles:20250223T180000
DTSTAMP:20260424T043559
CREATED:20220926T015338Z
LAST-MODIFIED:20241024T162903Z
UID:8106-1740045600-1740333600@socalasl.com
SUMMARY:West Coast Melee XXVII
DESCRIPTION:I’m pleased to announce that we finally have a contract with Best Western for West Coast Melee XXVII.\n\nThe important information:\n\nWest Coast Melee XXVII\n\n\nWhere: Best Western Plus\, Heritage Inn\n             8179 Spruce Avenue\n             Rancho Cucamonga\, CA 91730\nWhen: Thursday\, February 20th through Sunday\, February 23rd\, 2025\n\n\n\nEntry Fee: $50 (full\, includes 1 year membership)\n\n\n\n                  $35 (one day pass\, includes 1 year membership)\n\n\nClick HERE to download the flyer and registration form.\n\n\n\nWe have are returning to last year’s venue.  Best Western Plus\, Heritage Inn is just west of Interstate 15\, about halfway between Interstates 10 and 210.  They have a large meeting room with plenty of light and free parking.  The hotel room rate is $129\, plus tax.  We’ll have the hotel registration set up shortly and the pre-reg flyer up shortly.\nOur food options are pretty plentiful.  The hotel shares a parking lot with Mimi’s Cafe.  And across the driveway you’ll find The Habit\, Cafe Rio\, Jersey Mike’s and Chipotle.  If you want to walk a block and cross Foothill Blvd\, you’ll find the Black Bear Diner and a number of other restaurants.\n\nStay tuned\, more info is on the way.  In the meantime\, be sure to reserve the dates on your calendar.  You don’t want to miss this!\n\n\n\n\nWe are cleared to begin booking our WCM hotel rooms at Best Western Plus\, Heritage Inn.\n\nThe pricing is the same as last year: $129 per night plus tax\, including up to 2 breakfasts per room per day.  The hotel information is on the flyer.  Just call the reservation line at 909-466-1111.  Our group name is West Coast Melee.  You’ll have your choice between double queen size or one king size.  Cut-off is February 11th.\n\nAs always\, please remember to get your hotel reservation in early.  We’ve tried to make sure our room block will have enough rooms\, but once they’re gone\, they’re gone.\n\nPlease drop me a line if you run into any problems making your reservation.\n\nSee you there!
URL:https://socalasl.com/event/west-coast-melee-xxvii/
ATTACH;FMTTYPE=image/jpeg:https://socalasl.com/wp-content/uploads/2021/05/20180324_160338-scaled.jpg
END:VEVENT
END:VCALENDAR