BEGIN:VCALENDAR
VERSION:2.0
PRODID:-//SoCal ASL - ECPv6.15.20//NONSGML v1.0//EN
CALSCALE:GREGORIAN
METHOD:PUBLISH
X-WR-CALNAME:SoCal ASL
X-ORIGINAL-URL:https://socalasl.com
X-WR-CALDESC:Events for SoCal ASL
REFRESH-INTERVAL;VALUE=DURATION:PT1H
X-Robots-Tag:noindex
X-PUBLISHED-TTL:PT1H
BEGIN:VTIMEZONE
TZID:America/Los_Angeles
BEGIN:DAYLIGHT
TZOFFSETFROM:-0800
TZOFFSETTO:-0700
TZNAME:PDT
DTSTART:20200308T100000
END:DAYLIGHT
BEGIN:STANDARD
TZOFFSETFROM:-0700
TZOFFSETTO:-0800
TZNAME:PST
DTSTART:20201101T090000
END:STANDARD
BEGIN:DAYLIGHT
TZOFFSETFROM:-0800
TZOFFSETTO:-0700
TZNAME:PDT
DTSTART:20210314T100000
END:DAYLIGHT
BEGIN:STANDARD
TZOFFSETFROM:-0700
TZOFFSETTO:-0800
TZNAME:PST
DTSTART:20211107T090000
END:STANDARD
BEGIN:DAYLIGHT
TZOFFSETFROM:-0800
TZOFFSETTO:-0700
TZNAME:PDT
DTSTART:20220313T100000
END:DAYLIGHT
BEGIN:STANDARD
TZOFFSETFROM:-0700
TZOFFSETTO:-0800
TZNAME:PST
DTSTART:20221106T090000
END:STANDARD
BEGIN:DAYLIGHT
TZOFFSETFROM:-0800
TZOFFSETTO:-0700
TZNAME:PDT
DTSTART:20230312T100000
END:DAYLIGHT
BEGIN:STANDARD
TZOFFSETFROM:-0700
TZOFFSETTO:-0800
TZNAME:PST
DTSTART:20231105T090000
END:STANDARD
BEGIN:DAYLIGHT
TZOFFSETFROM:-0800
TZOFFSETTO:-0700
TZNAME:PDT
DTSTART:20240310T100000
END:DAYLIGHT
BEGIN:STANDARD
TZOFFSETFROM:-0700
TZOFFSETTO:-0800
TZNAME:PST
DTSTART:20241103T090000
END:STANDARD
BEGIN:DAYLIGHT
TZOFFSETFROM:-0800
TZOFFSETTO:-0700
TZNAME:PDT
DTSTART:20250309T100000
END:DAYLIGHT
BEGIN:STANDARD
TZOFFSETFROM:-0700
TZOFFSETTO:-0800
TZNAME:PST
DTSTART:20251102T090000
END:STANDARD
BEGIN:DAYLIGHT
TZOFFSETFROM:-0800
TZOFFSETTO:-0700
TZNAME:PDT
DTSTART:20260308T100000
END:DAYLIGHT
BEGIN:STANDARD
TZOFFSETFROM:-0700
TZOFFSETTO:-0800
TZNAME:PST
DTSTART:20261101T090000
END:STANDARD
END:VTIMEZONE
BEGIN:VEVENT
DTSTART;TZID=America/Los_Angeles:20251025T110000
DTEND;TZID=America/Los_Angeles:20251025T200000
DTSTAMP:20260423T171156
CREATED:20250913T001956Z
LAST-MODIFIED:20250913T002025Z
UID:8655-1761390000-1761422400@socalasl.com
SUMMARY:17th Annual Burning Wreck Barbecue
DESCRIPTION:We are planning to hold our 17th Annual Burning Wreck Barbecue this coming month.  Here are the details:\n\nDate: Saturday\, October 25th\, 2025\n\nLocation: Stance Nixon’s House\, 5349 E. Monlaco Road\, Long Beach.\n\nCost: $10 (Collected at the door.  A reservation is required).  However your 2025 dues must be paid (see below).\n\nFood: The Club will cover the cost of pizzas for lunch and The Habit for dinner.   As always\, we’ll have the Club coolers stocked with complimentary ice cold soda and beer throughout the day.\n \n\nAs for format\, we’re going to repeat what has worked so successfully for the last eight years\, and run a scenario selection process on this e-group. We will pick one scenario for everyone to play. Then on the day of the event\, we’ll pair up randomly. When you arrive\, you will receive a raffle ticket.  If you win your scenario\, you will receive an additional raffle ticket.  When all the games have cleared (which should all be around the same time considering we’re playing the same scenario) we will pull raffle tickets for prizes.  We will have a prize pool of about a half-dozen items.  And by receiving one ticket just for showing up\, even if you lost your scenario\, you could still be a winner!\n \nRemember\, this event is open to SoCalASL members only.  There is a $10 charge for this event and your 2025 dues must be paid in full. (If you attended WCM this year\, your dues are paid\, as it was was included in your admission.)  If you need to\, you can pay your 2025 dues along with your entry fee at the door.\n\nFor those who are unfamiliar with how we select a scenario\, here’s the timeline we’re going to use:\n \nThis is a three step process.  \n \nStep 1) Starting today\, September 12th\, each member can nominate up to 3 scenarios for consideration.  You can make your nominations directly on this e-group\, or to me personally at jfaikens@verizon.net\, by Sunday\, September 28th.  Ideal scenarios should be:\n \na)  Playable in about 6 to 7 hours with a defender set-up done in advance.\n\n\nb) They should be combined arms.\n\nc) They should have a reasonably good balance rating on ROAR.  We’ve found from experience that when a scenario is set up in advance (as our format entails) the defender will have an advantage. This is particularly important if the scenario involves fortifications.  For that reason\, I recommend considering scenarios that are slightly pro-attacker.\n\n\nd) I wouldn’t necessarily limit the nominations to “official” MMP scenarios.  However\, during the voting process\, it’s hard to garner support for a scenario that very few players have a copy of.  If you have an esoteric scenario suggestion\, be prepared to post a copy of the scenario with your nomination.  Along that same line\, I would discourage nominating scenarios that utilize a 3rd party board or overlay\, for the reasons stated above.  \n \nStep 2) Scenario nominations can be submitted between today and Sunday\, September 28th.  I will then compile and post a list of all the scenarios that are nominated on Monday\, September 29th.  I will ask for members to vote for their 3 favorites from the posted list (ranked 1st – 3rd choice.) Those votes can be via this e-group or sent in private to me.  Voting will close on the evening of Sunday\, October 5th.\n \nStep 3) I will tally the votes for the various scenarios\, and announce the 3 top vote-getting scenarios on Monday\, October 6th. Members can then vote for their preference among these 3\, again either via the e-group or privately\, to me\, by ranking the scenarios 1st choice\, 2nd choice and 3rd choice. Voting will close on the evening of October 12th\, and I will announce the winning scenario on Monday\, October 13th.\n \nFollowing long-standing tradition\, we will seed the nomination with the two runner-up scenarios from last year: DB130 Tigers and Flames (German 42/Russian 30) and ASL 84 Round One <3rd Edition> (Poles 13/Germans 14).  Please treat these scenarios as though they have already been nominated.\n\nSo dig through your piles of scenarios and get in your nominations!
URL:https://socalasl.com/event/17th-annual-burning-wreck-barbecue/
END:VEVENT
BEGIN:VEVENT
DTSTART;TZID=America/Los_Angeles:20250830T110000
DTEND;TZID=America/Los_Angeles:20250830T200000
DTSTAMP:20260423T171156
CREATED:20210713T152906Z
LAST-MODIFIED:20250826T032101Z
UID:6343-1756551600-1756584000@socalasl.com
SUMMARY:Special 5th Saturday Game Day and Cookout in Torrance (Update)
DESCRIPTION:We have a 5th Saturday coming up this month on August 30th.  Apex Fasteners will not be available to meet at that day.  So we’re going to try something completely different:\n\n\nDan Plachta recently remodeled his entire back yard\, including a patio and barbecue\, and has offered to open his home for the day.  We’re going to take him up on his offer.  We’re going to combine this with a summer cookout (not to be confused with the Burning Wreck Barbecue coming this fall).\n\n\nHere’s what you need to know:\n\n\nWhen: Saturday\, August 30th\, 11:00 AM\n\n\nWhere: Dan Plachta’s house\n             22955 Walnut Street\n             Torrance\, CA 90501\n\n\nCost: $10 per person\n\n\nRSVP by Wednesday\, August 27th\n\n\nFormat: We’re going to meet at Dan’s house at 11:00 AM and pair up for games as usual.  We will being playing inside\, and Dan and I will make sure we have enough tables and chairs.  We will adjourn in the early afternoon for lunch in the back yard.  Nothing fancy: hamburgers\, hot dogs\, chips\, soda\, etc.\, typical summer cookout stuff.  We’ll then resume playing and plan to wrap up in the early evening\, as usual.  You can pay your $10 when you arrive.\n\n\nI want to keep this as simple as possible\, but because there’s food involved\, we’re going to need a head-count a few days in advance.  If you wish to attend\, please drop me an email (jfaikens@verizon.net) or text (760-217-1992) by Wednesday evening\, and let me know you’re coming.  As of today\, the following members are signed up: \n\nJim Aikens\nDan Plachta\nDave Nicholas\nBlair Bellamy\nFen Yan\nJohn Lehman\nPeter Strand\n\nRemember\, get those RSVP’s in by Wednesday.  I hope you can join us!
URL:https://socalasl.com/event/game-day-in-bellflower-2/
END:VEVENT
BEGIN:VEVENT
DTSTART;TZID=America/Los_Angeles:20250329T110000
DTEND;TZID=America/Los_Angeles:20250329T210000
DTSTAMP:20260423T171156
CREATED:20210627T180707Z
LAST-MODIFIED:20250326T194542Z
UID:6329-1743246000-1743282000@socalasl.com
SUMMARY:5th Saturday Game Day in Long Beach
DESCRIPTION:This is a Special Game Day honoring our fallen comrade\, Eric Visnowski:\n\n\nDate: Saturday\, March 29th\n\n\nTime: 11:00 AM\n\n\nLocation: Stance Nixon’s house\, 5349 E. Monlaco Road\, Long Beach.\n\n\nStance and Cheryl Nixon have agreed to once again open their home to us for this Special 5th Saturday Game Day honoring Eric Visnowski.\n\n\nWe all know that Eric’s favorite form of ASL was Deluxe.  So on Saturday\, in his honor\, that’s what we’re going to play.  Please bring a couple of your favorite Deluxe scenarios.  Large\, small\, urban\, hedgerows\, jungle… whatever you want\, as long as it has those giant hexes.  Otherwise\, our format will remain the same; show up at 11:00 AM and we’ll pair up to play.  As usual\, we’ll cut out for lunch in the early afternoon.  We’re expecting a really good turn-out for this.  I’m looking forward to seeing you there!
URL:https://socalasl.com/event/13th-annual-burning-wreck-barbecue/
END:VEVENT
BEGIN:VEVENT
DTSTART;TZID=America/Los_Angeles:20250220T100000
DTEND;TZID=America/Los_Angeles:20250223T180000
DTSTAMP:20260423T171156
CREATED:20220926T015338Z
LAST-MODIFIED:20241024T162903Z
UID:8106-1740045600-1740333600@socalasl.com
SUMMARY:West Coast Melee XXVII
DESCRIPTION:I’m pleased to announce that we finally have a contract with Best Western for West Coast Melee XXVII.\n\nThe important information:\n\nWest Coast Melee XXVII\n\n\nWhere: Best Western Plus\, Heritage Inn\n             8179 Spruce Avenue\n             Rancho Cucamonga\, CA 91730\nWhen: Thursday\, February 20th through Sunday\, February 23rd\, 2025\n\n\n\nEntry Fee: $50 (full\, includes 1 year membership)\n\n\n\n                  $35 (one day pass\, includes 1 year membership)\n\n\nClick HERE to download the flyer and registration form.\n\n\n\nWe have are returning to last year’s venue.  Best Western Plus\, Heritage Inn is just west of Interstate 15\, about halfway between Interstates 10 and 210.  They have a large meeting room with plenty of light and free parking.  The hotel room rate is $129\, plus tax.  We’ll have the hotel registration set up shortly and the pre-reg flyer up shortly.\nOur food options are pretty plentiful.  The hotel shares a parking lot with Mimi’s Cafe.  And across the driveway you’ll find The Habit\, Cafe Rio\, Jersey Mike’s and Chipotle.  If you want to walk a block and cross Foothill Blvd\, you’ll find the Black Bear Diner and a number of other restaurants.\n\nStay tuned\, more info is on the way.  In the meantime\, be sure to reserve the dates on your calendar.  You don’t want to miss this!\n\n\n\n\nWe are cleared to begin booking our WCM hotel rooms at Best Western Plus\, Heritage Inn.\n\nThe pricing is the same as last year: $129 per night plus tax\, including up to 2 breakfasts per room per day.  The hotel information is on the flyer.  Just call the reservation line at 909-466-1111.  Our group name is West Coast Melee.  You’ll have your choice between double queen size or one king size.  Cut-off is February 11th.\n\nAs always\, please remember to get your hotel reservation in early.  We’ve tried to make sure our room block will have enough rooms\, but once they’re gone\, they’re gone.\n\nPlease drop me a line if you run into any problems making your reservation.\n\nSee you there!
URL:https://socalasl.com/event/west-coast-melee-xxvii/
ATTACH;FMTTYPE=image/jpeg:https://socalasl.com/wp-content/uploads/2021/05/20180324_160338-scaled.jpg
END:VEVENT
BEGIN:VEVENT
DTSTART;TZID=America/Los_Angeles:20231125T140000
DTEND;TZID=America/Los_Angeles:20231125T200000
DTSTAMP:20260423T171156
CREATED:20210919T212822Z
LAST-MODIFIED:20231124T225728Z
UID:6383-1700920800-1700942400@socalasl.com
SUMMARY:Game Day in Sherman Oaks
DESCRIPTION:Paper Hero’s \n14109 Burbank Blvd \nSherman Oaks\, CA 91401 \nWe’re back at Paper Hero’s on Saturday\, November 25th.  Our normal 4th Saturday venue\, Games at My Place (formally Gameology Pasadena) has gone out of business\, so Paper Hero’s has offered to host us.  The store ‘s hours are  2:00 to 8:00 PM.  Let’s just plan to meet at the store when it opens at 2:00 PM.  Come and join us for a fun and relaxing day of ASL.  Our Game Days all work the same: just show up at the appointed hour\, and you’re guaranteed to get a game in.
URL:https://socalasl.com/event/game-day-in-sherman-oaks-4/
END:VEVENT
BEGIN:VEVENT
DTSTART;TZID=America/Los_Angeles:20231118T140000
DTEND;TZID=America/Los_Angeles:20231118T200000
DTSTAMP:20260423T171156
CREATED:20210604T042419Z
LAST-MODIFIED:20231025T000951Z
UID:6291-1700316000-1700337600@socalasl.com
SUMMARY:Game Day in Sherman Oaks
DESCRIPTION:Paper Hero’s \n14109 Burbank Blvd \nSherman Oaks\, CA 91401 \nThe store has shortened their hours to 2:00 to 8:00 PM.  So we’re going to meet for lunch at 12:30 at Sharky’s  (13238 Burbank Blvd\, Shreman  Oaks)\, then head over to the game store when it opens.   Or you can just meet us at the store at 2:00.  Either way\, come and join us for a fun and relaxing day of ASL.  Our Game Days all work the same: just show up at the appointed hour\, and you’re guaranteed to get a game in.
URL:https://socalasl.com/event/game-day-in-sherman-oaks/
END:VEVENT
BEGIN:VEVENT
DTSTART;TZID=America/Los_Angeles:20230520T083000
DTEND;TZID=America/Los_Angeles:20230520T180000
DTSTAMP:20260423T171156
CREATED:20230405T155213Z
LAST-MODIFIED:20230405T155337Z
UID:8210-1684571400-1684605600@socalasl.com
SUMMARY:Special Game Day on the USS Iowa!
DESCRIPTION:Peter Strand has been working behind the scenes for a few months now\, and the members of SoCalASL are about to benefit!  He has lined up a Special Game Day on the USS Iowa!\n\nWhere: USS Iowa\, 250 S. Harbor Blvd\, Los Angeles (San Pedro) CA\n \nWhen: Saturday\, May 20th\n\nReservations: Required\n\nCost: Entry is free\, but they charge for parking.\n\nThe Plan: \n\nWe are going to meet in the museum parking lot at 8:30 AM SHARP.  We will then proceed on a pre-opening tour of the ship.  Our goal is to finish the tour and set up our games in the Officer’s Ward Room by the time the museum opens at 10:00 AM.   We will be very limited as to what gear we can bring in.  We’re going to do demo games on historical maps.  As we move closer to the date I’ll go further into the details on that.  We will be playing in view (and earshot) of the museum visitors and docents.  As such\, and this is very important: we’re going to have to be very careful about our language. And yes\, I am aware I am a prime offender.  If I can control my language\, you can also.\n\nOur lunch options are somewhat limited.  The only food source on the ship is Vicky’s Doghouse Cafe\, which serves hot dogs\, sausages and salads.  We really won’t have time to leave the ship to eat\, so plan accordingly.  We will need to have our games wrapped up and be off the ship by 6:00 PM.\n\nI am going to organize this along the lines of our Burning Wreck Barbecue\, in that I will put out a call for reservations and expect everyone who signs up to be there on time.  If for some reason you’re going to be late\, I will need a phone call or text\, because we’re going to have to make arrangements with the docents to get you on board.\n\nI will put out a call for reservations around the middle of April.  For now\, just be sure to save the date\, and stay tuned for more details.
URL:https://socalasl.com/event/special-game-day-on-the-uss-iowa/
END:VEVENT
BEGIN:VEVENT
DTSTART;TZID=America/Los_Angeles:20220820T120000
DTEND;TZID=America/Los_Angeles:20220820T200000
DTSTAMP:20260423T171156
CREATED:20220720T000953Z
LAST-MODIFIED:20220720T000953Z
UID:8087-1660996800-1661025600@socalasl.com
SUMMARY:Special Game Day and Cookout in Winnetka
DESCRIPTION:In lieu of our usual Game Day in Sherman Oaks\, we’re going to meet at Jaime Pelaez’ house: 8407 Delco  Avenue\, Winnetka\, for a cookout and Game Day.  Jaime and Sal have offered to cook for us.  We have chicken wings\, BBQ Chicken\, mashed potatoes\, Caesar salad and beer/soda on the menu.  There will be no charge for the meal\, but you’ll need to make a reservation. Free food and a game of ASL!  What’s not to love?\n\nBy the way\, don’t be confused: this is a summer cookout & Game Day.  It’s not our official 14th Annual Burning Wreck Barbecue\, which is scheduled for late October in Long Beach.
URL:https://socalasl.com/event/special-game-day-and-cookout-in-winnetka/
END:VEVENT
BEGIN:VEVENT
DTSTART;TZID=America/Los_Angeles:20220326T120000
DTEND;TZID=America/Los_Angeles:20220326T180000
DTSTAMP:20260423T171156
CREATED:20220321T040628Z
LAST-MODIFIED:20220321T040628Z
UID:8046-1648296000-1648317600@socalasl.com
SUMMARY:Game Day in Escondido
DESCRIPTION:There’s a card game release at Pair-a-Dice this month.  So our San Diego Game Day will be at Steve Thorne’s house (613 Fern Street\, Escondido).  The start time is noon.  Steve would like to get a head count in advance.  If you’re planning to attend\, please drop him line at stevethorne27@yahoo.com by Wednesday\, March 23rd. \nI hope you can join us!
URL:https://socalasl.com/event/game-day-in-escondido/
END:VEVENT
BEGIN:VEVENT
DTSTART;TZID=America/Los_Angeles:20220224T100000
DTEND;TZID=America/Los_Angeles:20220227T180000
DTSTAMP:20260423T171156
CREATED:20211013T024045Z
LAST-MODIFIED:20220202T223742Z
UID:6397-1645696800-1645984800@socalasl.com
SUMMARY:West Coast Melee XXIV
DESCRIPTION:I am very pleased to announce we have a signed contract for our 2022 West Coast Melee venue!\n \nWhat: West Coast Melee XXIV the premier ASL event in the west!\n \nWhen: Thursday\, February 24th through Sunday February 27th\, 2022.\n \nWhere: Holiday Inn West Covina\, 3223 East Garvey Avenue North\, West Covina\, CA\n \nClick HERE to book your room.  Make sure you use our Special Rate Group Code – “WCM”.\n \nClick HERE to download the flyer and registration form.\n\n \nAs many of you know\, our two previous venues closed permanently as a result of the pandemic\, and we chose to cancel the event for 2021.  Well\, we’re planning to return with a vengeance for 2022\, and we have secured a great venue.  Holiday Inn West Covina is right off of Interstate 10\, about half way between Highway 57 and Interstate 605.  The hotel has a restaurant and a bar\, right next to the game room.  Also\, there’s an El Torito’s and a Marie Calendar’s in the parking lot\, plus tons\, and I mean tons\, of other restaurant choices less than a mile away.\n \nWCM XXIV will have everything you’ve come to expect from West Coast Melee.  In addition to The Melee competition\, we’re planning six themed mini-tournaments and our 7-0 Leaders program.  We also have a sweet looking polo shirt with our logo in the works\, as well as our usual swag.\n \nI will be posting more details going forward. For now\, make sure you save the date.  Trust me\, you don’t want to miss it!
URL:https://socalasl.com/event/west-coast-melee-xxiv/
ATTACH;FMTTYPE=image/jpeg:https://socalasl.com/wp-content/uploads/2021/10/WCM2019.jpg
END:VEVENT
BEGIN:VEVENT
DTSTART;TZID=America/Los_Angeles:20220219T140000
DTEND;TZID=America/Los_Angeles:20220219T200000
DTSTAMP:20260423T171156
CREATED:20210823T001219Z
LAST-MODIFIED:20220206T203042Z
UID:6369-1645279200-1645300800@socalasl.com
SUMMARY:Game Day in Sherman Oaks
DESCRIPTION:Paper Hero’s \n14109 Burbank Blvd \nSherman Oaks\, CA 91401 \nWe’re back at Paper Hero’s on Saturday\, January  15\, 2022.  The store has temporarily shortened their hours to 2:00 to 8:00 PM.  So we’re going to meet for lunch at 12:30 at Norm’s  (13636 Sherman Way\, Van Nuys)\, then head over to the game store when it opens.   Or you can just meet us at the store at 2:00.  Either way\, come and join us for a fun and relaxing day of ASL.  Our Game Days all work the same: just show up at the appointed hour\, and you’re guaranteed to get a game in.
URL:https://socalasl.com/event/game-day-in-sherman-oaks-3/
END:VEVENT
BEGIN:VEVENT
DTSTART;TZID=America/Los_Angeles:20220101T080000
DTEND;TZID=America/Los_Angeles:20220101T170000
DTSTAMP:20260423T171156
CREATED:20211214T034136Z
LAST-MODIFIED:20211214T034136Z
UID:6829-1641024000-1641056400@socalasl.com
SUMMARY:Happy New Year!
DESCRIPTION:
URL:https://socalasl.com/event/happy-new-year/
END:VEVENT
BEGIN:VEVENT
DTSTART;TZID=America/Los_Angeles:20211225T080000
DTEND;TZID=America/Los_Angeles:20211225T170000
DTSTAMP:20260423T171156
CREATED:20211214T034027Z
LAST-MODIFIED:20211214T034027Z
UID:6826-1640419200-1640451600@socalasl.com
SUMMARY:Merry Christmas!
DESCRIPTION:
URL:https://socalasl.com/event/merry-christmas/
END:VEVENT
BEGIN:VEVENT
DTSTART;TZID=America/Los_Angeles:20210828T120000
DTEND;TZID=America/Los_Angeles:20210828T190000
DTSTAMP:20260423T171156
CREATED:20210809T221220Z
LAST-MODIFIED:20210815T163348Z
UID:6356-1630152000-1630177200@socalasl.com
SUMMARY:Game Day in Chatsworth
DESCRIPTION:All Ways Gaming \n21032 Devonshire St. \nChatsworth\, CA 91311 \nCome and join us for a fun and relaxing day of ASL.  Our Game Days all work the same: just show up at the appointed hour\, and you’re guaranteed to get a game in.  We usually break in the mid-afternoon for lunch on the patio at the fabulous San Carlo Deli
URL:https://socalasl.com/event/game-day-in-chatsworth-2/
END:VEVENT
BEGIN:VEVENT
DTSTART;TZID=America/Los_Angeles:20210612T120000
DTEND;TZID=America/Los_Angeles:20210612T120000
DTSTAMP:20260423T171156
CREATED:20210502T091504Z
LAST-MODIFIED:20210502T091504Z
UID:6262-1623499200-1623499200@socalasl.com
SUMMARY:Alternate Game Day in Long Beach
DESCRIPTION:Format: These meetings work like all of our Game Days.  Show up at noon and we’ll pair you up with someone to play.  Everyone who arrives at or near the appointed hour is guaranteed to get a game in.
URL:https://socalasl.com/event/stance-210612/
LOCATION:Stance Nixon’s house\, 5349 E. Monlaco\,\, Long Beach\, CA\, CA\, 90808\, United States
END:VEVENT
BEGIN:VEVENT
DTSTART;TZID=America/Los_Angeles:20210508T120000
DTEND;TZID=America/Los_Angeles:20210508T120000
DTSTAMP:20260423T171156
CREATED:20210405T231756Z
LAST-MODIFIED:20210502T091322Z
UID:6-1620475200-1620475200@socalasl.com
SUMMARY:Alternate Game Day in Long Beach
DESCRIPTION:Format: These meetings work like all of our Game Days.  Show up at noon and we’ll pair you up with someone to play.  Everyone who arrives at or near the appointed hour is guaranteed to get a game in.
URL:https://socalasl.com/event/stance-210508/
LOCATION:Stance Nixon’s house\, 5349 E. Monlaco\,\, Long Beach\, CA\, CA\, 90808\, United States
END:VEVENT
END:VCALENDAR