BEGIN:VCALENDAR
VERSION:2.0
PRODID:-//SoCal ASL - ECPv6.15.20//NONSGML v1.0//EN
CALSCALE:GREGORIAN
METHOD:PUBLISH
X-ORIGINAL-URL:https://socalasl.com
X-WR-CALDESC:Events for SoCal ASL
REFRESH-INTERVAL;VALUE=DURATION:PT1H
X-Robots-Tag:noindex
X-PUBLISHED-TTL:PT1H
BEGIN:VTIMEZONE
TZID:America/Los_Angeles
BEGIN:DAYLIGHT
TZOFFSETFROM:-0800
TZOFFSETTO:-0700
TZNAME:PDT
DTSTART:20250309T100000
END:DAYLIGHT
BEGIN:STANDARD
TZOFFSETFROM:-0700
TZOFFSETTO:-0800
TZNAME:PST
DTSTART:20251102T090000
END:STANDARD
BEGIN:DAYLIGHT
TZOFFSETFROM:-0800
TZOFFSETTO:-0700
TZNAME:PDT
DTSTART:20260308T100000
END:DAYLIGHT
BEGIN:STANDARD
TZOFFSETFROM:-0700
TZOFFSETTO:-0800
TZNAME:PST
DTSTART:20261101T090000
END:STANDARD
BEGIN:DAYLIGHT
TZOFFSETFROM:-0800
TZOFFSETTO:-0700
TZNAME:PDT
DTSTART:20270314T100000
END:DAYLIGHT
BEGIN:STANDARD
TZOFFSETFROM:-0700
TZOFFSETTO:-0800
TZNAME:PST
DTSTART:20271107T090000
END:STANDARD
END:VTIMEZONE
BEGIN:VEVENT
DTSTART;TZID=America/Los_Angeles:20260131T110000
DTEND;TZID=America/Los_Angeles:20260131T200000
DTSTAMP:20260423T120040
CREATED:20210816T011315Z
LAST-MODIFIED:20260121T215702Z
UID:6362-1769857200-1769889600@socalasl.com
SUMMARY:Special 5th Saturday Game Day in Irwindale
DESCRIPTION:Apex Fasteners \n15858 Business Center Drive\, \nIrwindale\, CA 91706 \nCome and join us for a fun and relaxing day of ASL.  We are meeting at Matt Cicero’s office in Irwindale.  If you haven’t been there\, you’re in for a treat.  The building has a large game room with plenty of tables and chairs.  Our Game Days all work the same: just show up at the appointed hour\, and you’re guaranteed to get a game in.  We will break in the mid-afternoon for some excellent Mexican food nearby.
URL:https://socalasl.com/event/6362/
END:VEVENT
END:VCALENDAR